BEGIN:VCALENDAR
VERSION:2.0
PRODID:-//The Benson Bulletin - ECPv6.15.20//NONSGML v1.0//EN
CALSCALE:GREGORIAN
METHOD:PUBLISH
X-ORIGINAL-URL:https://bensonbulletin.co.uk
X-WR-CALDESC:Events for The Benson Bulletin
REFRESH-INTERVAL;VALUE=DURATION:PT1H
X-Robots-Tag:noindex
X-PUBLISHED-TTL:PT1H
BEGIN:VTIMEZONE
TZID:Europe/London
BEGIN:DAYLIGHT
TZOFFSETFROM:+0000
TZOFFSETTO:+0100
TZNAME:BST
DTSTART:20240331T010000
END:DAYLIGHT
BEGIN:STANDARD
TZOFFSETFROM:+0100
TZOFFSETTO:+0000
TZNAME:GMT
DTSTART:20241027T010000
END:STANDARD
BEGIN:DAYLIGHT
TZOFFSETFROM:+0000
TZOFFSETTO:+0100
TZNAME:BST
DTSTART:20250330T010000
END:DAYLIGHT
BEGIN:STANDARD
TZOFFSETFROM:+0100
TZOFFSETTO:+0000
TZNAME:GMT
DTSTART:20251026T010000
END:STANDARD
BEGIN:DAYLIGHT
TZOFFSETFROM:+0000
TZOFFSETTO:+0100
TZNAME:BST
DTSTART:20260329T010000
END:DAYLIGHT
BEGIN:STANDARD
TZOFFSETFROM:+0100
TZOFFSETTO:+0000
TZNAME:GMT
DTSTART:20261025T010000
END:STANDARD
END:VTIMEZONE
BEGIN:VEVENT
DTSTART;TZID=Europe/London:20251014T100000
DTEND;TZID=Europe/London:20251014T103000
DTSTAMP:20260423T220159
CREATED:20251010T115015Z
LAST-MODIFIED:20251010T115015Z
UID:10001971-1760436000-1760437800@bensonbulletin.co.uk
SUMMARY:Rhymetimes
DESCRIPTION:Runs on 1st & 2nd Tuesdays\, + last 2 Fridays (check dates) per month.\nSing along to favourite rhymes with musical instruments\, toys\, bubbles and lots of fun!\n\n10-10:30AM\, followed by parents/carers coffee morning
URL:https://bensonbulletin.co.uk/event/rhymetimes/
LOCATION:Benson Library
END:VEVENT
BEGIN:VEVENT
DTSTART;TZID=Europe/London:20250905T100000
DTEND;TZID=Europe/London:20250905T110000
DTSTAMP:20260423T220159
CREATED:20250421T110035Z
LAST-MODIFIED:20250421T110035Z
UID:10001489-1757066400-1757070000@bensonbulletin.co.uk
SUMMARY:Baby builders - 1st Fridays
DESCRIPTION:Join us for some building fun!  1st Fridays of the month\, plus 3rd or 4th Tuesdays (check dates). \nSuitable for 1-5 year olds\, with accompanying adults \nFridays: 2 May; 6 Jun;  4 Jul ; 1 Aug 2025; 5 Sep.
URL:https://bensonbulletin.co.uk/event/1st-fridays-baby-builders/2025-09-05/
LOCATION:Benson Library
END:VEVENT
BEGIN:VEVENT
DTSTART;TZID=Europe/London:20250902T100000
DTEND;TZID=Europe/London:20250902T110000
DTSTAMP:20260423T220159
CREATED:20250421T122415Z
LAST-MODIFIED:20250421T122415Z
UID:10001503-1756807200-1756810800@bensonbulletin.co.uk
SUMMARY:Rhyme Times - under 5's + carers
DESCRIPTION:Runs on 1st & 2nd Tuesday\, + 2 later Fridays (check dates) per month.\nSing along to favourite rhymes with musical instruments\, toys\, bubbles and lots of fun! \n\n\n\n\nTuesdays 6 May; 13 May; 3 Jun; 10 Jun; 1 Jul; 8th Jul; 5 Aug; 12 Aug; 2 Sep ;\nFridays: 25 April; 16 May; 23 May; 20 Jun; 27th Jun; 18 Jul; 25 Jul; 15 Aug; 22 Aug; 19 Sep
URL:https://bensonbulletin.co.uk/event/1sttuesdays-rhyme-times-benson/2025-09-02/
LOCATION:Benson Library
END:VEVENT
BEGIN:VEVENT
DTSTART;TZID=Europe/London:20250805T100000
DTEND;TZID=Europe/London:20250805T110000
DTSTAMP:20260423T220159
CREATED:20250421T122415Z
LAST-MODIFIED:20250421T122415Z
UID:10001502-1754388000-1754391600@bensonbulletin.co.uk
SUMMARY:Rhyme Times - under 5's + carers
DESCRIPTION:Runs on 1st & 2nd Tuesday\, + 2 later Fridays (check dates) per month.\nSing along to favourite rhymes with musical instruments\, toys\, bubbles and lots of fun! \n\n\n\n\nTuesdays 6 May; 13 May; 3 Jun; 10 Jun; 1 Jul; 8th Jul; 5 Aug; 12 Aug; 2 Sep ;\nFridays: 25 April; 16 May; 23 May; 20 Jun; 27th Jun; 18 Jul; 25 Jul; 15 Aug; 22 Aug; 19 Sep
URL:https://bensonbulletin.co.uk/event/1sttuesdays-rhyme-times-benson/2025-08-05/
LOCATION:Benson Library
END:VEVENT
BEGIN:VEVENT
DTSTART;TZID=Europe/London:20250801T100000
DTEND;TZID=Europe/London:20250801T110000
DTSTAMP:20260423T220159
CREATED:20250421T110035Z
LAST-MODIFIED:20250421T110035Z
UID:10001488-1754042400-1754046000@bensonbulletin.co.uk
SUMMARY:Baby builders - 1st Fridays
DESCRIPTION:Join us for some building fun!  1st Fridays of the month\, plus 3rd or 4th Tuesdays (check dates). \nSuitable for 1-5 year olds\, with accompanying adults \nFridays: 2 May; 6 Jun;  4 Jul ; 1 Aug 2025; 5 Sep.
URL:https://bensonbulletin.co.uk/event/1st-fridays-baby-builders/2025-08-01/
LOCATION:Benson Library
END:VEVENT
BEGIN:VEVENT
DTSTART;TZID=Europe/London:20250704T100000
DTEND;TZID=Europe/London:20250704T110000
DTSTAMP:20260423T220159
CREATED:20250421T110035Z
LAST-MODIFIED:20250421T110035Z
UID:10001487-1751623200-1751626800@bensonbulletin.co.uk
SUMMARY:Baby builders - 1st Fridays
DESCRIPTION:Join us for some building fun!  1st Fridays of the month\, plus 3rd or 4th Tuesdays (check dates). \nSuitable for 1-5 year olds\, with accompanying adults \nFridays: 2 May; 6 Jun;  4 Jul ; 1 Aug 2025; 5 Sep.
URL:https://bensonbulletin.co.uk/event/1st-fridays-baby-builders/2025-07-04/
LOCATION:Benson Library
END:VEVENT
BEGIN:VEVENT
DTSTART;TZID=Europe/London:20250701T100000
DTEND;TZID=Europe/London:20250701T110000
DTSTAMP:20260423T220159
CREATED:20250421T122415Z
LAST-MODIFIED:20250421T122415Z
UID:10001501-1751364000-1751367600@bensonbulletin.co.uk
SUMMARY:Rhyme Times - under 5's + carers
DESCRIPTION:Runs on 1st & 2nd Tuesday\, + 2 later Fridays (check dates) per month.\nSing along to favourite rhymes with musical instruments\, toys\, bubbles and lots of fun! \n\n\n\n\nTuesdays 6 May; 13 May; 3 Jun; 10 Jun; 1 Jul; 8th Jul; 5 Aug; 12 Aug; 2 Sep ;\nFridays: 25 April; 16 May; 23 May; 20 Jun; 27th Jun; 18 Jul; 25 Jul; 15 Aug; 22 Aug; 19 Sep
URL:https://bensonbulletin.co.uk/event/1sttuesdays-rhyme-times-benson/2025-07-01/
LOCATION:Benson Library
END:VEVENT
BEGIN:VEVENT
DTSTART;TZID=Europe/London:20250606T100000
DTEND;TZID=Europe/London:20250606T110000
DTSTAMP:20260423T220159
CREATED:20250421T110035Z
LAST-MODIFIED:20250421T110035Z
UID:10001486-1749204000-1749207600@bensonbulletin.co.uk
SUMMARY:Baby builders - 1st Fridays
DESCRIPTION:Join us for some building fun!  1st Fridays of the month\, plus 3rd or 4th Tuesdays (check dates). \nSuitable for 1-5 year olds\, with accompanying adults \nFridays: 2 May; 6 Jun;  4 Jul ; 1 Aug 2025; 5 Sep.
URL:https://bensonbulletin.co.uk/event/1st-fridays-baby-builders/2025-06-06/
LOCATION:Benson Library
END:VEVENT
BEGIN:VEVENT
DTSTART;TZID=Europe/London:20250603T100000
DTEND;TZID=Europe/London:20250603T110000
DTSTAMP:20260423T220159
CREATED:20250421T122415Z
LAST-MODIFIED:20250421T122415Z
UID:10001500-1748944800-1748948400@bensonbulletin.co.uk
SUMMARY:Rhyme Times - under 5's + carers
DESCRIPTION:Runs on 1st & 2nd Tuesday\, + 2 later Fridays (check dates) per month.\nSing along to favourite rhymes with musical instruments\, toys\, bubbles and lots of fun! \n\n\n\n\nTuesdays 6 May; 13 May; 3 Jun; 10 Jun; 1 Jul; 8th Jul; 5 Aug; 12 Aug; 2 Sep ;\nFridays: 25 April; 16 May; 23 May; 20 Jun; 27th Jun; 18 Jul; 25 Jul; 15 Aug; 22 Aug; 19 Sep
URL:https://bensonbulletin.co.uk/event/1sttuesdays-rhyme-times-benson/2025-06-03/
LOCATION:Benson Library
END:VEVENT
BEGIN:VEVENT
DTSTART;TZID=Europe/London:20250506T100000
DTEND;TZID=Europe/London:20250506T110000
DTSTAMP:20260423T220159
CREATED:20250421T122415Z
LAST-MODIFIED:20250421T122415Z
UID:10001499-1746525600-1746529200@bensonbulletin.co.uk
SUMMARY:Rhyme Times - under 5's + carers
DESCRIPTION:Runs on 1st & 2nd Tuesday\, + 2 later Fridays (check dates) per month.\nSing along to favourite rhymes with musical instruments\, toys\, bubbles and lots of fun! \n\n\n\n\nTuesdays 6 May; 13 May; 3 Jun; 10 Jun; 1 Jul; 8th Jul; 5 Aug; 12 Aug; 2 Sep ;\nFridays: 25 April; 16 May; 23 May; 20 Jun; 27th Jun; 18 Jul; 25 Jul; 15 Aug; 22 Aug; 19 Sep
URL:https://bensonbulletin.co.uk/event/1sttuesdays-rhyme-times-benson/2025-05-06/
LOCATION:Benson Library
END:VEVENT
BEGIN:VEVENT
DTSTART;TZID=Europe/London:20250502T100000
DTEND;TZID=Europe/London:20250502T110000
DTSTAMP:20260423T220159
CREATED:20250421T110035Z
LAST-MODIFIED:20250421T110035Z
UID:10001485-1746180000-1746183600@bensonbulletin.co.uk
SUMMARY:Baby builders - 1st Fridays
DESCRIPTION:Join us for some building fun!  1st Fridays of the month\, plus 3rd or 4th Tuesdays (check dates). \nSuitable for 1-5 year olds\, with accompanying adults \nFridays: 2 May; 6 Jun;  4 Jul ; 1 Aug 2025; 5 Sep.
URL:https://bensonbulletin.co.uk/event/1st-fridays-baby-builders/2025-05-02/
LOCATION:Benson Library
END:VEVENT
BEGIN:VEVENT
DTSTART;TZID=Europe/London:20250425T100000
DTEND;TZID=Europe/London:20250425T110000
DTSTAMP:20260423T220159
CREATED:20250421T123534Z
LAST-MODIFIED:20250421T123534Z
UID:10001509-1745575200-1745578800@bensonbulletin.co.uk
SUMMARY:Rhyme Times - under 5's + carers
DESCRIPTION:Runs on 1st & 2nd Tuesdays\, + 2 later Fridays (check dates) per month.\nSing along to favourite rhymes with musical instruments\, toys\, bubbles and lots of fun! \n\n\n\n\nTuesdays 6 May; 13 May; 3 Jun; 10 Jun; 1 Jul; 8th Jul; 5 Aug; 12 Aug; 2 Sep ; 9 Sep\nFridays: 25 April; 16 May; 23 May; 20 Jun; 27th Jun; 18 Jul; 25 Jul; 15 Aug; 22 Aug; 19 Sep
URL:https://bensonbulletin.co.uk/event/25apr-rhyme-times-benson/
LOCATION:Benson Library
END:VEVENT
END:VCALENDAR