BEGIN:VCALENDAR
VERSION:2.0
PRODID:-//The Benson Bulletin - ECPv6.15.20//NONSGML v1.0//EN
CALSCALE:GREGORIAN
METHOD:PUBLISH
X-ORIGINAL-URL:https://bensonbulletin.co.uk
X-WR-CALDESC:Events for The Benson Bulletin
REFRESH-INTERVAL;VALUE=DURATION:PT1H
X-Robots-Tag:noindex
X-PUBLISHED-TTL:PT1H
BEGIN:VTIMEZONE
TZID:Europe/London
BEGIN:DAYLIGHT
TZOFFSETFROM:+0000
TZOFFSETTO:+0100
TZNAME:BST
DTSTART:20240331T010000
END:DAYLIGHT
BEGIN:STANDARD
TZOFFSETFROM:+0100
TZOFFSETTO:+0000
TZNAME:GMT
DTSTART:20241027T010000
END:STANDARD
BEGIN:DAYLIGHT
TZOFFSETFROM:+0000
TZOFFSETTO:+0100
TZNAME:BST
DTSTART:20250330T010000
END:DAYLIGHT
BEGIN:STANDARD
TZOFFSETFROM:+0100
TZOFFSETTO:+0000
TZNAME:GMT
DTSTART:20251026T010000
END:STANDARD
BEGIN:DAYLIGHT
TZOFFSETFROM:+0000
TZOFFSETTO:+0100
TZNAME:BST
DTSTART:20260329T010000
END:DAYLIGHT
BEGIN:STANDARD
TZOFFSETFROM:+0100
TZOFFSETTO:+0000
TZNAME:GMT
DTSTART:20261025T010000
END:STANDARD
END:VTIMEZONE
BEGIN:VEVENT
DTSTART;TZID=Europe/London:20251128T100000
DTEND;TZID=Europe/London:20251128T103000
DTSTAMP:20260423T184722
CREATED:20251030T120804Z
LAST-MODIFIED:20251030T120804Z
UID:10001990-1764324000-1764325800@bensonbulletin.co.uk
SUMMARY:Rhymetimes
DESCRIPTION:Runs on 1st & 2nd Tuesdays\, + last two Fridays (check dates) per month.\nSing along to favourite rhymes with musical instruments\, toys\, bubbles and lots of fun!\n\n10-10:30AM\, followed by parents/carers coffee morning
URL:https://bensonbulletin.co.uk/event/rhymetimes-6/
LOCATION:Benson Library
END:VEVENT
BEGIN:VEVENT
DTSTART;TZID=Europe/London:20251127T190000
DTEND;TZID=Europe/London:20251127T210000
DTSTAMP:20260423T184722
CREATED:20251030T162431Z
LAST-MODIFIED:20251030T162431Z
UID:10001997-1764270000-1764277200@bensonbulletin.co.uk
SUMMARY:Benson short mat bowls
DESCRIPTION:This Benson club meets Mondays 1:30-4pm (not on public holidays!)\nand Thursdays 7-9pm – except for the first Thursday of the month.\n-Kindly arrive 15 minutes earlier\, so we can start on time!
URL:https://bensonbulletin.co.uk/event/benson-short-mat-bowls-13/
LOCATION:Parish Hall
END:VEVENT
BEGIN:VEVENT
DTSTART;TZID=Europe/London:20251124T133000
DTEND;TZID=Europe/London:20251124T160000
DTSTAMP:20260423T184722
CREATED:20251030T162130Z
LAST-MODIFIED:20251030T162130Z
UID:10001996-1763991000-1764000000@bensonbulletin.co.uk
SUMMARY:Benson short mat bowls
DESCRIPTION:This Benson club meets Mondays 1:30-4pm (not on public holidays!)\nand Thursdays 7-9pm – except for the first Thursday of the month.\n-Kindly arrive 15 minutes earlier\, so we can start on time!
URL:https://bensonbulletin.co.uk/event/benson-short-mat-bowls-12/
LOCATION:Parish Hall
END:VEVENT
BEGIN:VEVENT
DTSTART;TZID=Europe/London:20251123T100000
DTEND;TZID=Europe/London:20251123T100000
DTSTAMP:20260423T184722
CREATED:20251028T150904Z
LAST-MODIFIED:20251028T150904Z
UID:10001986-1763892000-1763892000@bensonbulletin.co.uk
SUMMARY:Big Benson tree plant
DESCRIPTION:Community tree planting at Benson school playing field.  \nPlease could volunteers bring a spade\, gardening gloves and sturdy shoes!   \n  \n 
URL:https://bensonbulletin.co.uk/event/big-benson-tree-plant/
END:VEVENT
BEGIN:VEVENT
DTSTART;TZID=Europe/London:20251121T100000
DTEND;TZID=Europe/London:20251121T103000
DTSTAMP:20260423T184722
CREATED:20251030T120458Z
LAST-MODIFIED:20251030T120458Z
UID:10001989-1763719200-1763721000@bensonbulletin.co.uk
SUMMARY:Rhymetimes
DESCRIPTION:Runs on 1st & 2nd Tuesdays\, + last two Fridays (check dates) per month.\nSing along to favourite rhymes with musical instruments\, toys\, bubbles and lots of fun!\n\n10-10:30AM\, followed by parents/carers coffee morning
URL:https://bensonbulletin.co.uk/event/rhymetimes-5/
LOCATION:Benson Library
END:VEVENT
BEGIN:VEVENT
DTSTART;TZID=Europe/London:20251120T190000
DTEND;TZID=Europe/London:20251120T210000
DTSTAMP:20260423T184722
CREATED:20251030T161814Z
LAST-MODIFIED:20251030T161814Z
UID:10001995-1763665200-1763672400@bensonbulletin.co.uk
SUMMARY:Benson short mat bowls
DESCRIPTION:This Benson club meets Mondays 1:30-4pm (not on public holidays!)\nand Thursdays 7-9pm – except for the first Thursday of the month.\n-Kindly arrive 15 minutes earlier\, so we can start on time!
URL:https://bensonbulletin.co.uk/event/benson-short-mat-bowls-11/
LOCATION:Parish Hall
END:VEVENT
BEGIN:VEVENT
DTSTART;TZID=Europe/London:20251117T133000
DTEND;TZID=Europe/London:20251117T160000
DTSTAMP:20260423T184722
CREATED:20251030T161530Z
LAST-MODIFIED:20251030T161530Z
UID:10001994-1763386200-1763395200@bensonbulletin.co.uk
SUMMARY:Benson short mat bowls
DESCRIPTION:This Benson club meets Mondays 1:30-4pm (not on public holidays!)\nand Thursdays 7-9pm – except for the first Thursday of the month.\n-Kindly arrive 15 minutes earlier\, so we can start on time!
URL:https://bensonbulletin.co.uk/event/benson-short-mat-bowls-10/
LOCATION:Parish Hall
END:VEVENT
BEGIN:VEVENT
DTSTART;TZID=Europe/London:20251113T190000
DTEND;TZID=Europe/London:20251113T210000
DTSTAMP:20260423T184722
CREATED:20251030T121742Z
LAST-MODIFIED:20251030T121742Z
UID:10001993-1763060400-1763067600@bensonbulletin.co.uk
SUMMARY:Benson short mat bowls
DESCRIPTION:This Benson club meets Mondays 1:30-4pm (not on public holidays!)\nand Thursdays 7-9pm – except for the first Thursday of the month.\n-Kindly arrive 15 minutes earlier\, so we can start on time!
URL:https://bensonbulletin.co.uk/event/benson-short-mat-bowls-9/
LOCATION:Parish Hall
END:VEVENT
BEGIN:VEVENT
DTSTART;TZID=Europe/London:20251113T180000
DTEND;TZID=Europe/London:20251113T190000
DTSTAMP:20260423T184722
CREATED:20251010T114453Z
LAST-MODIFIED:20251010T114453Z
UID:10001970-1763056800-1763060400@bensonbulletin.co.uk
SUMMARY:Family history group - drop-in clinic
DESCRIPTION:The monthly drop-in session runs on the second Thursday\, 6-7pm. Benson library.
URL:https://bensonbulletin.co.uk/event/family-history-group-drop-in-clinic-2/
LOCATION:Benson Library
END:VEVENT
BEGIN:VEVENT
DTSTART;TZID=Europe/London:20251111T100000
DTEND;TZID=Europe/London:20251111T103000
DTSTAMP:20260423T184722
CREATED:20251030T120149Z
LAST-MODIFIED:20251030T120149Z
UID:10001988-1762855200-1762857000@bensonbulletin.co.uk
SUMMARY:Rhymetimes
DESCRIPTION:Rhymetimes\n\nRuns on 1st & 2nd Tuesdays\, + 2 last Fridays (check dates) per month.\nSing along to favourite rhymes with musical instruments\, toys\, bubbles and lots of fun!\n\n10-10:30AM\, followed by parents/carers coffee morning
URL:https://bensonbulletin.co.uk/event/rhymetimes-benson-library/
LOCATION:Benson Library
END:VEVENT
BEGIN:VEVENT
DTSTART;TZID=Europe/London:20251110T133000
DTEND;TZID=Europe/London:20251110T160000
DTSTAMP:20260423T184722
CREATED:20251030T121450Z
LAST-MODIFIED:20251030T121450Z
UID:10001992-1762781400-1762790400@bensonbulletin.co.uk
SUMMARY:Benson short mat bowls
DESCRIPTION:This Benson club meets Mondays 1:30-4pm (not on public holidays!)\nand Thursdays 7-9pm – except for the first Thursday of the month.\n-Kindly arrive 15 minutes earlier\, so we can start on time!\n 
URL:https://bensonbulletin.co.uk/event/benson-short-mat-bowls-8/
LOCATION:Parish Hall
END:VEVENT
BEGIN:VEVENT
DTSTART;TZID=Europe/London:20251106T103000
DTEND;TZID=Europe/London:20251106T103000
DTSTAMP:20260423T184722
CREATED:20251010T122111Z
LAST-MODIFIED:20251010T122111Z
UID:10001980-1762425000-1762425000@bensonbulletin.co.uk
SUMMARY:Benson – Carers’ coffee morning
DESCRIPTION:Join us for the Carers’ coffee morning. First Thursday of the month. Benson library\, from 10:30AM
URL:https://bensonbulletin.co.uk/event/benson-carers-coffee-morning/
LOCATION:Benson Library
END:VEVENT
BEGIN:VEVENT
DTSTART;TZID=Europe/London:20251104T140000
DTEND;TZID=Europe/London:20251104T160000
DTSTAMP:20260423T184722
CREATED:20251010T123708Z
LAST-MODIFIED:20251010T123708Z
UID:10001984-1762264800-1762272000@bensonbulletin.co.uk
SUMMARY:Knit & Natter
DESCRIPTION:A drop-in session on the first Tuesday of the month – join us to knit & natter! 2-4pm at Benson library.
URL:https://bensonbulletin.co.uk/event/knit-natter/
LOCATION:Benson Library
END:VEVENT
BEGIN:VEVENT
DTSTART;TZID=Europe/London:20251104T100000
DTEND;TZID=Europe/London:20251104T103000
DTSTAMP:20260423T184722
CREATED:20251030T115900Z
LAST-MODIFIED:20251030T115900Z
UID:10001987-1762250400-1762252200@bensonbulletin.co.uk
SUMMARY:Rhymetimes
DESCRIPTION:Runs on 1st & 2nd Tuesdays\, + 2 last Fridays (check dates) per month.\nSing along to favourite rhymes with musical instruments\, toys\, bubbles and lots of fun!\n\n10-10:30AM\, followed by parents/carers coffee morning
URL:https://bensonbulletin.co.uk/event/rhymetimes-4/
LOCATION:Benson Library
END:VEVENT
BEGIN:VEVENT
DTSTART;TZID=Europe/London:20251103T133000
DTEND;TZID=Europe/London:20251103T160000
DTSTAMP:20260423T184722
CREATED:20251030T121121Z
LAST-MODIFIED:20251030T121121Z
UID:10001991-1762176600-1762185600@bensonbulletin.co.uk
SUMMARY:Benson short mat bowls
DESCRIPTION:This Benson club meets Mondays 1:30-4pm (not on public holidays!)\nand Thursdays 7-9pm – except for the first Thursday of the month.\n-Kindly arrive 15 minutes earlier\, so we can start on time!
URL:https://bensonbulletin.co.uk/event/benson-short-mat-bowls-7/
LOCATION:Parish Hall
END:VEVENT
BEGIN:VEVENT
DTSTART;TZID=Europe/London:20251031T100000
DTEND;TZID=Europe/London:20251031T103000
DTSTAMP:20260423T184722
CREATED:20251010T115556Z
LAST-MODIFIED:20251010T115556Z
UID:10001973-1761904800-1761906600@bensonbulletin.co.uk
SUMMARY:Rhymetimes
DESCRIPTION:Runs on 1st & 2nd Tuesdays\, + last 2 Fridays (check dates) per month.\nSing along to favourite rhymes with musical instruments\, toys\, bubbles and lots of fun!\n\n10-10:30AM\, followed by parents/carers coffee morning
URL:https://bensonbulletin.co.uk/event/rhymetimes-3/
LOCATION:Benson Library
END:VEVENT
BEGIN:VEVENT
DTSTART;TZID=Europe/London:20251030T190000
DTEND;TZID=Europe/London:20251030T210000
DTSTAMP:20260423T184722
CREATED:20251010T121717Z
LAST-MODIFIED:20251010T121717Z
UID:10001979-1761850800-1761858000@bensonbulletin.co.uk
SUMMARY:Benson short mat bowls
DESCRIPTION:This Benson club meets Mondays 1:30-4pm (not on public holidays!)\n& Thursdays 7-9pm – except first Thursday of the month.\n-Kindly arrive 15 minutes earlier\, so we can start on time!
URL:https://bensonbulletin.co.uk/event/benson-short-mat-bowls-6/
LOCATION:Parish Hall
END:VEVENT
BEGIN:VEVENT
DTSTART;TZID=Europe/London:20251028T103000
DTEND;TZID=Europe/London:20251028T120000
DTSTAMP:20260423T184722
CREATED:20251010T123130Z
LAST-MODIFIED:20251010T123130Z
UID:10001983-1761647400-1761652800@bensonbulletin.co.uk
SUMMARY:Benson community coffee morning  
DESCRIPTION:Join us for the community coffee morning!  Tuesdays 10:30am -12:00pm at the Millstream Centre. All welcome.
URL:https://bensonbulletin.co.uk/event/benson-community-coffee-morning-3/
LOCATION:Millstream Centre
END:VEVENT
BEGIN:VEVENT
DTSTART;TZID=Europe/London:20251027T133000
DTEND;TZID=Europe/London:20251027T160000
DTSTAMP:20260423T184722
CREATED:20251010T121424Z
LAST-MODIFIED:20251010T121424Z
UID:10001978-1761571800-1761580800@bensonbulletin.co.uk
SUMMARY:Benson short mat bowls
DESCRIPTION:This Benson club meets Mondays 1:30-4pm (not on public holidays!)\n& Thursdays 7-9pm – except first Thursday of the month.\n-Kindly arrive 15 minutes earlier\, so we can start on time!
URL:https://bensonbulletin.co.uk/event/benson-short-mat-bowls-5/
LOCATION:Parish Hall
END:VEVENT
BEGIN:VEVENT
DTSTART;TZID=Europe/London:20251024T100000
DTEND;TZID=Europe/London:20251024T103000
DTSTAMP:20260423T184722
CREATED:20251010T115342Z
LAST-MODIFIED:20251010T115342Z
UID:10001972-1761300000-1761301800@bensonbulletin.co.uk
SUMMARY:Rhymetimes
DESCRIPTION:Runs on 1st & 2nd Tuesdays\, + last 2 Fridays (check dates) per month.\nSing along to favourite rhymes with musical instruments\, toys\, bubbles and lots of fun!\n\n10-10:30AM\, followed by parents/carers coffee morning
URL:https://bensonbulletin.co.uk/event/rhymetimes-2/
LOCATION:Benson Library
END:VEVENT
BEGIN:VEVENT
DTSTART;TZID=Europe/London:20251023T190000
DTEND;TZID=Europe/London:20251023T210000
DTSTAMP:20260423T184722
CREATED:20251010T121207Z
LAST-MODIFIED:20251010T121207Z
UID:10001977-1761246000-1761253200@bensonbulletin.co.uk
SUMMARY:Benson short mat bowls
DESCRIPTION:This Benson club meets Mondays 1:30-4pm (not on public holidays!)\n& Thursdays 7-9pm – except first Thursday of the month.\n-Kindly arrive 15 minutes earlier\, so we can start on time!
URL:https://bensonbulletin.co.uk/event/benson-short-mat-bowls-4/
LOCATION:Parish Hall
END:VEVENT
BEGIN:VEVENT
DTSTART;TZID=Europe/London:20251021T193000
DTEND;TZID=Europe/London:20251021T193000
DTSTAMP:20260423T184722
CREATED:20250922T154145Z
LAST-MODIFIED:20250922T154145Z
UID:10001967-1761075000-1761075000@bensonbulletin.co.uk
SUMMARY:Bioacoustics talk
DESCRIPTION:Bioacoustics talk with Rory O’Connor on technology for monitoring wildlife and climate change.\nAt St Lawrence Hall\, Warborough.\nNo booking required\, free event.\n (Benson Nature Group).
URL:https://bensonbulletin.co.uk/event/bioacoustics-talk-warborough/
END:VEVENT
BEGIN:VEVENT
DTSTART;TZID=Europe/London:20251021T103000
DTEND;TZID=Europe/London:20251021T120000
DTSTAMP:20260423T184722
CREATED:20251010T122743Z
LAST-MODIFIED:20251010T122743Z
UID:10001982-1761042600-1761048000@bensonbulletin.co.uk
SUMMARY:Benson community coffee morning
DESCRIPTION:Join us for the community coffee morning!  Tuesdays 10:30am -12:00pm at the Millstream Centre. All welcome.
URL:https://bensonbulletin.co.uk/event/benson-community-coffee-morning-2/
LOCATION:Millstream Centre
END:VEVENT
BEGIN:VEVENT
DTSTART;TZID=Europe/London:20251020T133000
DTEND;TZID=Europe/London:20251020T160000
DTSTAMP:20260423T184722
CREATED:20251010T120932Z
LAST-MODIFIED:20251010T120932Z
UID:10001976-1760967000-1760976000@bensonbulletin.co.uk
SUMMARY:Benson short mat bowls
DESCRIPTION:This Benson club meets Mondays 1:30-4pm (not on public holidays!)\n& Thursdays 7-9pm – except first Thursday of the month.\n-Kindly arrive 15 minutes earlier\, so we can start on time!
URL:https://bensonbulletin.co.uk/event/benson-short-mat-bowls-3/
LOCATION:Parish Hall
END:VEVENT
BEGIN:VEVENT
DTSTART;TZID=Europe/London:20251016T190000
DTEND;TZID=Europe/London:20251016T210000
DTSTAMP:20260423T184722
CREATED:20251010T120522Z
LAST-MODIFIED:20251010T120522Z
UID:10001975-1760641200-1760648400@bensonbulletin.co.uk
SUMMARY:Benson short mat bowls
DESCRIPTION:This Benson club meets Mondays 1:30-4pm (not on public holidays!)\n& Thursdays 7-9pm – except first Thursday of the month.\n-Kindly arrive 15 minutes earlier\, so we can start on time!
URL:https://bensonbulletin.co.uk/event/benson-short-mat-bowls-2/
LOCATION:Parish Hall
END:VEVENT
BEGIN:VEVENT
DTSTART;TZID=Europe/London:20251014T103000
DTEND;TZID=Europe/London:20251014T120000
DTSTAMP:20260423T184722
CREATED:20251010T122501Z
LAST-MODIFIED:20251010T122501Z
UID:10001981-1760437800-1760443200@bensonbulletin.co.uk
SUMMARY:Benson community coffee morning
DESCRIPTION:Join us for the community coffee morning!  Tuesdays 10:30am -12:00pm at the Millstream Centre. All welcome.
URL:https://bensonbulletin.co.uk/event/benson-community-coffee-morning/
LOCATION:Millstream Centre
END:VEVENT
BEGIN:VEVENT
DTSTART;TZID=Europe/London:20251014T100000
DTEND;TZID=Europe/London:20251014T103000
DTSTAMP:20260423T184722
CREATED:20251010T115015Z
LAST-MODIFIED:20251010T115015Z
UID:10001971-1760436000-1760437800@bensonbulletin.co.uk
SUMMARY:Rhymetimes
DESCRIPTION:Runs on 1st & 2nd Tuesdays\, + last 2 Fridays (check dates) per month.\nSing along to favourite rhymes with musical instruments\, toys\, bubbles and lots of fun!\n\n10-10:30AM\, followed by parents/carers coffee morning
URL:https://bensonbulletin.co.uk/event/rhymetimes/
LOCATION:Benson Library
END:VEVENT
BEGIN:VEVENT
DTSTART;TZID=Europe/London:20251013T133000
DTEND;TZID=Europe/London:20251013T160000
DTSTAMP:20260423T184722
CREATED:20251010T120157Z
LAST-MODIFIED:20251010T120157Z
UID:10001974-1760362200-1760371200@bensonbulletin.co.uk
SUMMARY:Benson short mat bowls
DESCRIPTION:This Benson club meets Mondays 1:30-4pm (not on public holidays!)\n& Thursdays 7-9pm – except first Thursday of the month.\n-Kindly arrive 15 minutes earlier\, so we can start on time!
URL:https://bensonbulletin.co.uk/event/benson-short-mat-bowls/
LOCATION:Parish Hall
END:VEVENT
BEGIN:VEVENT
DTSTART;TZID=Europe/London:20250905T100000
DTEND;TZID=Europe/London:20250905T110000
DTSTAMP:20260423T184722
CREATED:20250421T110035Z
LAST-MODIFIED:20250421T110035Z
UID:10001489-1757066400-1757070000@bensonbulletin.co.uk
SUMMARY:Baby builders - 1st Fridays
DESCRIPTION:Join us for some building fun!  1st Fridays of the month\, plus 3rd or 4th Tuesdays (check dates). \nSuitable for 1-5 year olds\, with accompanying adults \nFridays: 2 May; 6 Jun;  4 Jul ; 1 Aug 2025; 5 Sep.
URL:https://bensonbulletin.co.uk/event/1st-fridays-baby-builders/2025-09-05/
LOCATION:Benson Library
END:VEVENT
BEGIN:VEVENT
DTSTART;TZID=Europe/London:20250902T100000
DTEND;TZID=Europe/London:20250902T110000
DTSTAMP:20260423T184722
CREATED:20250421T122415Z
LAST-MODIFIED:20250421T122415Z
UID:10001503-1756807200-1756810800@bensonbulletin.co.uk
SUMMARY:Rhyme Times - under 5's + carers
DESCRIPTION:Runs on 1st & 2nd Tuesday\, + 2 later Fridays (check dates) per month.\nSing along to favourite rhymes with musical instruments\, toys\, bubbles and lots of fun! \n\n\n\n\nTuesdays 6 May; 13 May; 3 Jun; 10 Jun; 1 Jul; 8th Jul; 5 Aug; 12 Aug; 2 Sep ;\nFridays: 25 April; 16 May; 23 May; 20 Jun; 27th Jun; 18 Jul; 25 Jul; 15 Aug; 22 Aug; 19 Sep
URL:https://bensonbulletin.co.uk/event/1sttuesdays-rhyme-times-benson/2025-09-02/
LOCATION:Benson Library
END:VEVENT
END:VCALENDAR