BEGIN:VCALENDAR
VERSION:2.0
PRODID:-//The Benson Bulletin - ECPv6.15.20//NONSGML v1.0//EN
CALSCALE:GREGORIAN
METHOD:PUBLISH
X-ORIGINAL-URL:https://bensonbulletin.co.uk
X-WR-CALDESC:Events for The Benson Bulletin
REFRESH-INTERVAL;VALUE=DURATION:PT1H
X-Robots-Tag:noindex
X-PUBLISHED-TTL:PT1H
BEGIN:VTIMEZONE
TZID:Europe/London
BEGIN:DAYLIGHT
TZOFFSETFROM:+0000
TZOFFSETTO:+0100
TZNAME:BST
DTSTART:20240331T010000
END:DAYLIGHT
BEGIN:STANDARD
TZOFFSETFROM:+0100
TZOFFSETTO:+0000
TZNAME:GMT
DTSTART:20241027T010000
END:STANDARD
BEGIN:DAYLIGHT
TZOFFSETFROM:+0000
TZOFFSETTO:+0100
TZNAME:BST
DTSTART:20250330T010000
END:DAYLIGHT
BEGIN:STANDARD
TZOFFSETFROM:+0100
TZOFFSETTO:+0000
TZNAME:GMT
DTSTART:20251026T010000
END:STANDARD
BEGIN:DAYLIGHT
TZOFFSETFROM:+0000
TZOFFSETTO:+0100
TZNAME:BST
DTSTART:20260329T010000
END:DAYLIGHT
BEGIN:STANDARD
TZOFFSETFROM:+0100
TZOFFSETTO:+0000
TZNAME:GMT
DTSTART:20261025T010000
END:STANDARD
END:VTIMEZONE
BEGIN:VEVENT
DTSTART;TZID=Europe/London:20251222T133000
DTEND;TZID=Europe/London:20251222T160000
DTSTAMP:20260423T170431
CREATED:20251129T124844Z
LAST-MODIFIED:20251129T124844Z
UID:10002004-1766410200-1766419200@bensonbulletin.co.uk
SUMMARY:Benson short mat bowls
DESCRIPTION:This Benson club meets Mondays 1:30-4pm (not on public holidays!)\nand Thursdays 7-9pm – except for the first Thursday of the month.\n-Kindly arrive 15 minutes earlier\, so we can start on time!
URL:https://bensonbulletin.co.uk/event/benson-short-mat-bowls-mondays-4/
LOCATION:Parish Hall
END:VEVENT
BEGIN:VEVENT
DTSTART;TZID=Europe/London:20251219T080000
DTEND;TZID=Europe/London:20251219T170000
DTSTAMP:20260423T170431
CREATED:20251129T123805Z
LAST-MODIFIED:20251129T123805Z
UID:10002000-1766131200-1766163600@bensonbulletin.co.uk
SUMMARY:Rhymetimes
DESCRIPTION:Runs on 1st & 2nd Tuesdays\, + last two Fridays (check dates) per month.\nSing along to favourite rhymes with musical instruments\, toys\, bubbles and lots of fun!\n\n10-10:30AM – followed by parents/carers coffee morning
URL:https://bensonbulletin.co.uk/event/rhymetimes-lasttwofridays-benson-library/
LOCATION:Benson Library
END:VEVENT
BEGIN:VEVENT
DTSTART;TZID=Europe/London:20251218T190000
DTEND;TZID=Europe/London:20251218T210000
DTSTAMP:20260423T170431
CREATED:20251129T125649Z
LAST-MODIFIED:20251129T125649Z
UID:10002006-1766084400-1766091600@bensonbulletin.co.uk
SUMMARY:Benson short mat bowls
DESCRIPTION:This Benson club meets Mondays 1:30-4pm (not on public holidays!)\nand Thursdays 7-9pm – except for the first Thursday of the month.\n-Kindly arrive 15 minutes earlier\, so we can start on time!
URL:https://bensonbulletin.co.uk/event/benson-short-mat-bowls-thursdays-2/
LOCATION:Parish Hall
END:VEVENT
BEGIN:VEVENT
DTSTART;TZID=Europe/London:20251218T170000
DTEND;TZID=Europe/London:20251218T190000
DTSTAMP:20260423T170431
CREATED:20251129T135100Z
LAST-MODIFIED:20251129T135100Z
UID:10002012-1766077200-1766084400@bensonbulletin.co.uk
SUMMARY:Art evenings
DESCRIPTION:Easy craft projects for adults – all skill levels welcome. Drop in\, Benson library 5-7pm on third Thursday of the month.
URL:https://bensonbulletin.co.uk/event/art-evenings/
LOCATION:Benson Library
END:VEVENT
BEGIN:VEVENT
DTSTART;TZID=Europe/London:20251218T160000
DTEND;TZID=Europe/London:20251218T190000
DTSTAMP:20260423T170431
CREATED:20251129T140423Z
LAST-MODIFIED:20251129T140423Z
UID:10002015-1766073600-1766084400@bensonbulletin.co.uk
SUMMARY:Cosy craft
DESCRIPTION:Space for teens to bring any type of craft they are working on to a quiet space or to meet up with other crafters. Thursdays at Benson library 4-7pm.
URL:https://bensonbulletin.co.uk/event/cosy-craft-thursdays-2/
LOCATION:Benson Library
END:VEVENT
BEGIN:VEVENT
DTSTART;TZID=Europe/London:20251216T103000
DTEND;TZID=Europe/London:20251216T120000
DTSTAMP:20260423T170431
CREATED:20251129T131056Z
LAST-MODIFIED:20251129T131056Z
UID:10002010-1765881000-1765886400@bensonbulletin.co.uk
SUMMARY:Community coffee morning
DESCRIPTION:All welcome at the community coffee morning! Join us on Tuesdays at the Millstream Centre\, 10:30am-12pm.
URL:https://bensonbulletin.co.uk/event/community-coffee-morning-2/
LOCATION:Millstream Centre
END:VEVENT
BEGIN:VEVENT
DTSTART;TZID=Europe/London:20251215T133000
DTEND;TZID=Europe/London:20251215T160000
DTSTAMP:20260423T170431
CREATED:20251129T124603Z
LAST-MODIFIED:20251129T125052Z
UID:10002003-1765805400-1765814400@bensonbulletin.co.uk
SUMMARY:Benson short mat bowls
DESCRIPTION:This Benson club meets Mondays 1:30-4pm (not on public holidays!)\nand Thursdays 7-9pm – except for the first Thursday of the month.\n-Kindly arrive 15 minutes earlier\, so we can start on time!
URL:https://bensonbulletin.co.uk/event/benson-short-mat-bowls-mondays-3/
LOCATION:Parish Hall
END:VEVENT
BEGIN:VEVENT
DTSTART;TZID=Europe/London:20251211T190000
DTEND;TZID=Europe/London:20251211T210000
DTSTAMP:20260423T170431
CREATED:20251129T125819Z
LAST-MODIFIED:20251129T125819Z
UID:10002005-1765479600-1765486800@bensonbulletin.co.uk
SUMMARY:Benson short mat bowls
DESCRIPTION:This Benson club meets Mondays 1:30-4pm (not on public holidays!)\nand Thursdays 7-9pm – except for the first Thursday of the month.\n-Kindly arrive 15 minutes earlier\, so we can start on time!
URL:https://bensonbulletin.co.uk/event/benson-short-mat-bowls-thursdays/
LOCATION:Parish Hall
END:VEVENT
BEGIN:VEVENT
DTSTART;TZID=Europe/London:20251211T180000
DTEND;TZID=Europe/London:20251211T190000
DTSTAMP:20260423T170431
CREATED:20251010T114216Z
LAST-MODIFIED:20251129T135302Z
UID:10001969-1765476000-1765479600@bensonbulletin.co.uk
SUMMARY:Family history group - drop-in clinic
DESCRIPTION: \nThe monthly drop-in session runs on the second Thursday\, 6-7pm. Benson library.\n\n\nWhether you’re a beginner or have hit a ‘dead-end’ in your research\, join our experienced volunteer researcher to unlock the secrets hidden in your family! Use the library computers to access Ancestry & Find My Past.
URL:https://bensonbulletin.co.uk/event/family-history-group-drop-in-clinic/
LOCATION:Benson Library
END:VEVENT
BEGIN:VEVENT
DTSTART;TZID=Europe/London:20251211T160000
DTEND;TZID=Europe/London:20251211T190000
DTSTAMP:20260423T170431
CREATED:20251129T140121Z
LAST-MODIFIED:20251129T140121Z
UID:10002014-1765468800-1765479600@bensonbulletin.co.uk
SUMMARY:Cosy craft
DESCRIPTION:Space for teens to bring any type of craft they are working on to a quiet space or to meet up with other crafters. Thursdays at Benson library 4-7pm.
URL:https://bensonbulletin.co.uk/event/cosy-craft-thursdays/
LOCATION:Benson Library
END:VEVENT
BEGIN:VEVENT
DTSTART;TZID=Europe/London:20251209T103000
DTEND;TZID=Europe/London:20251209T120000
DTSTAMP:20260423T170431
CREATED:20251129T130755Z
LAST-MODIFIED:20251129T130755Z
UID:10002009-1765276200-1765281600@bensonbulletin.co.uk
SUMMARY:Community coffee morning
DESCRIPTION:All welcome at the community coffee morning! Join us on Tuesdays at the Millstream Centre\, 10:30am-12pm.
URL:https://bensonbulletin.co.uk/event/community-coffee-morning/
LOCATION:Millstream Centre
END:VEVENT
BEGIN:VEVENT
DTSTART;TZID=Europe/London:20251209T100000
DTEND;TZID=Europe/London:20251209T103000
DTSTAMP:20260423T170431
CREATED:20251129T123423Z
LAST-MODIFIED:20251129T123423Z
UID:10001999-1765274400-1765276200@bensonbulletin.co.uk
SUMMARY:Rhymetimes
DESCRIPTION:Runs on 1st & 2nd Tuesdays\, + last two Fridays (check dates) per month.\nSing along to favourite rhymes with musical instruments\, toys\, bubbles and lots of fun!\n\n10-10:30AM – followed by parents/carers coffee morning
URL:https://bensonbulletin.co.uk/event/rhymetimes-2nd-tuesdays/
LOCATION:Benson Library
END:VEVENT
BEGIN:VEVENT
DTSTART;TZID=Europe/London:20251208T133000
DTEND;TZID=Europe/London:20251208T160000
DTSTAMP:20260423T170431
CREATED:20251129T124326Z
LAST-MODIFIED:20251129T124326Z
UID:10002002-1765200600-1765209600@bensonbulletin.co.uk
SUMMARY:Benson short mat bowls
DESCRIPTION:This Benson club meets Mondays 1:30-4pm (not on public holidays!)\nand Thursdays 7-9pm – except for the first Thursday of the month.\n-Kindly arrive 15 minutes earlier\, so we can start on time!
URL:https://bensonbulletin.co.uk/event/benson-short-mat-bowls-mondays-2/
LOCATION:Parish Hall
END:VEVENT
BEGIN:VEVENT
DTSTART;TZID=Europe/London:20251206T100000
DTEND;TZID=Europe/London:20251206T120000
DTSTAMP:20260423T170431
CREATED:20251129T131638Z
LAST-MODIFIED:20251129T131638Z
UID:10002011-1765015200-1765022400@bensonbulletin.co.uk
SUMMARY:Family craft corner
DESCRIPTION:Join us for family friendly crafts at Benson library\, on the first Saturday in the month!
URL:https://bensonbulletin.co.uk/event/family-craft-corner/
LOCATION:Benson Library
END:VEVENT
BEGIN:VEVENT
DTSTART;TZID=Europe/London:20251204T160000
DTEND;TZID=Europe/London:20251204T190000
DTSTAMP:20260423T170431
CREATED:20251129T135707Z
LAST-MODIFIED:20251129T135707Z
UID:10002013-1764864000-1764874800@bensonbulletin.co.uk
SUMMARY:Cosy craft
DESCRIPTION:Space for teens to bring any type of craft they are working on to a quiet space or to meet up with other crafters. Thursdays at Benson library 4-7pm.
URL:https://bensonbulletin.co.uk/event/cosy-craft/
LOCATION:Benson Library
END:VEVENT
BEGIN:VEVENT
DTSTART;TZID=Europe/London:20251204T103000
DTEND;TZID=Europe/London:20251204T103000
DTSTAMP:20260423T170431
CREATED:20251129T130231Z
LAST-MODIFIED:20251129T130231Z
UID:10002007-1764844200-1764844200@bensonbulletin.co.uk
SUMMARY:Carers' coffee morning
DESCRIPTION:Join us for the Carers’ coffee morning. First Thursday of the month. Benson library\, from 10:30AM
URL:https://bensonbulletin.co.uk/event/carers-coffee-morning-1stthursday/
LOCATION:Benson Library
END:VEVENT
BEGIN:VEVENT
DTSTART;TZID=Europe/London:20251202T140000
DTEND;TZID=Europe/London:20251202T160000
DTSTAMP:20260423T170431
CREATED:20251010T124158Z
LAST-MODIFIED:20251010T124158Z
UID:10001985-1764684000-1764691200@bensonbulletin.co.uk
SUMMARY:Knit & natter
DESCRIPTION:A drop-in session on the first Tuesday of the month – join us to knit & natter! 2-4pm at Benson library.
URL:https://bensonbulletin.co.uk/event/knit-natter-2/
LOCATION:Benson Library
END:VEVENT
BEGIN:VEVENT
DTSTART;TZID=Europe/London:20251202T100000
DTEND;TZID=Europe/London:20251202T103000
DTSTAMP:20260423T170431
CREATED:20251129T122222Z
LAST-MODIFIED:20251129T122222Z
UID:10001998-1764669600-1764671400@bensonbulletin.co.uk
SUMMARY:Rhymetimes
DESCRIPTION:Runs on 1st & 2nd Tuesdays\, + last two Fridays (check dates) per month.\nSing along to favourite rhymes with musical instruments\, toys\, bubbles and lots of fun!\n\n10-10:30AM – followed by parents/carers coffee morning
URL:https://bensonbulletin.co.uk/event/rhymetimes-benson-library-2/
LOCATION:Benson Library
END:VEVENT
BEGIN:VEVENT
DTSTART;TZID=Europe/London:20251201T133000
DTEND;TZID=Europe/London:20251201T160000
DTSTAMP:20260423T170431
CREATED:20251129T124057Z
LAST-MODIFIED:20251129T124057Z
UID:10002001-1764595800-1764604800@bensonbulletin.co.uk
SUMMARY:Benson short mat bowls
DESCRIPTION:This Benson club meets Mondays 1:30-4pm (not on public holidays!)\nand Thursdays 7-9pm – except for the first Thursday of the month.\n-Kindly arrive 15 minutes earlier\, so we can start on time!
URL:https://bensonbulletin.co.uk/event/benson-short-mat-bowls-mondays/
LOCATION:Parish Hall
END:VEVENT
BEGIN:VEVENT
DTSTART;TZID=Europe/London:20251129T100000
DTEND;TZID=Europe/London:20251129T160000
DTSTAMP:20260423T170431
CREATED:20251129T142057Z
LAST-MODIFIED:20251129T142057Z
UID:10002016-1764410400-1764432000@bensonbulletin.co.uk
SUMMARY:Benson Christmas tree festival
DESCRIPTION:The church is open until Monday afternoon 1st Dec for people to admire trees decorated by local groups and businesses as part of this  year’s Christmas Tree Festival. Seasonal refreshments will be served throughout the weekend\, and there will also be a children’s trail and activities\, music and a raffle. \nOpening hours:  Saturday 29 November from 10 am to 4 pm;  Sunday from 11 am to 4 pm; and again on Monday 1 December from 10 am to 4 pm.
URL:https://bensonbulletin.co.uk/event/benson-christmas-tree-festival/
LOCATION:St Helen’s Church
END:VEVENT
BEGIN:VEVENT
DTSTART;TZID=Europe/London:20251128T100000
DTEND;TZID=Europe/London:20251128T103000
DTSTAMP:20260423T170431
CREATED:20251030T120804Z
LAST-MODIFIED:20251030T120804Z
UID:10001990-1764324000-1764325800@bensonbulletin.co.uk
SUMMARY:Rhymetimes
DESCRIPTION:Runs on 1st & 2nd Tuesdays\, + last two Fridays (check dates) per month.\nSing along to favourite rhymes with musical instruments\, toys\, bubbles and lots of fun!\n\n10-10:30AM\, followed by parents/carers coffee morning
URL:https://bensonbulletin.co.uk/event/rhymetimes-6/
LOCATION:Benson Library
END:VEVENT
BEGIN:VEVENT
DTSTART;TZID=Europe/London:20251127T190000
DTEND;TZID=Europe/London:20251127T210000
DTSTAMP:20260423T170431
CREATED:20251030T162431Z
LAST-MODIFIED:20251030T162431Z
UID:10001997-1764270000-1764277200@bensonbulletin.co.uk
SUMMARY:Benson short mat bowls
DESCRIPTION:This Benson club meets Mondays 1:30-4pm (not on public holidays!)\nand Thursdays 7-9pm – except for the first Thursday of the month.\n-Kindly arrive 15 minutes earlier\, so we can start on time!
URL:https://bensonbulletin.co.uk/event/benson-short-mat-bowls-13/
LOCATION:Parish Hall
END:VEVENT
BEGIN:VEVENT
DTSTART;TZID=Europe/London:20251124T133000
DTEND;TZID=Europe/London:20251124T160000
DTSTAMP:20260423T170431
CREATED:20251030T162130Z
LAST-MODIFIED:20251030T162130Z
UID:10001996-1763991000-1764000000@bensonbulletin.co.uk
SUMMARY:Benson short mat bowls
DESCRIPTION:This Benson club meets Mondays 1:30-4pm (not on public holidays!)\nand Thursdays 7-9pm – except for the first Thursday of the month.\n-Kindly arrive 15 minutes earlier\, so we can start on time!
URL:https://bensonbulletin.co.uk/event/benson-short-mat-bowls-12/
LOCATION:Parish Hall
END:VEVENT
BEGIN:VEVENT
DTSTART;TZID=Europe/London:20251123T100000
DTEND;TZID=Europe/London:20251123T100000
DTSTAMP:20260423T170431
CREATED:20251028T150904Z
LAST-MODIFIED:20251028T150904Z
UID:10001986-1763892000-1763892000@bensonbulletin.co.uk
SUMMARY:Big Benson tree plant
DESCRIPTION:Community tree planting at Benson school playing field.  \nPlease could volunteers bring a spade\, gardening gloves and sturdy shoes!   \n  \n 
URL:https://bensonbulletin.co.uk/event/big-benson-tree-plant/
END:VEVENT
BEGIN:VEVENT
DTSTART;TZID=Europe/London:20251121T100000
DTEND;TZID=Europe/London:20251121T103000
DTSTAMP:20260423T170431
CREATED:20251030T120458Z
LAST-MODIFIED:20251030T120458Z
UID:10001989-1763719200-1763721000@bensonbulletin.co.uk
SUMMARY:Rhymetimes
DESCRIPTION:Runs on 1st & 2nd Tuesdays\, + last two Fridays (check dates) per month.\nSing along to favourite rhymes with musical instruments\, toys\, bubbles and lots of fun!\n\n10-10:30AM\, followed by parents/carers coffee morning
URL:https://bensonbulletin.co.uk/event/rhymetimes-5/
LOCATION:Benson Library
END:VEVENT
BEGIN:VEVENT
DTSTART;TZID=Europe/London:20251120T190000
DTEND;TZID=Europe/London:20251120T210000
DTSTAMP:20260423T170431
CREATED:20251030T161814Z
LAST-MODIFIED:20251030T161814Z
UID:10001995-1763665200-1763672400@bensonbulletin.co.uk
SUMMARY:Benson short mat bowls
DESCRIPTION:This Benson club meets Mondays 1:30-4pm (not on public holidays!)\nand Thursdays 7-9pm – except for the first Thursday of the month.\n-Kindly arrive 15 minutes earlier\, so we can start on time!
URL:https://bensonbulletin.co.uk/event/benson-short-mat-bowls-11/
LOCATION:Parish Hall
END:VEVENT
BEGIN:VEVENT
DTSTART;TZID=Europe/London:20251117T133000
DTEND;TZID=Europe/London:20251117T160000
DTSTAMP:20260423T170431
CREATED:20251030T161530Z
LAST-MODIFIED:20251030T161530Z
UID:10001994-1763386200-1763395200@bensonbulletin.co.uk
SUMMARY:Benson short mat bowls
DESCRIPTION:This Benson club meets Mondays 1:30-4pm (not on public holidays!)\nand Thursdays 7-9pm – except for the first Thursday of the month.\n-Kindly arrive 15 minutes earlier\, so we can start on time!
URL:https://bensonbulletin.co.uk/event/benson-short-mat-bowls-10/
LOCATION:Parish Hall
END:VEVENT
BEGIN:VEVENT
DTSTART;TZID=Europe/London:20251113T190000
DTEND;TZID=Europe/London:20251113T210000
DTSTAMP:20260423T170431
CREATED:20251030T121742Z
LAST-MODIFIED:20251030T121742Z
UID:10001993-1763060400-1763067600@bensonbulletin.co.uk
SUMMARY:Benson short mat bowls
DESCRIPTION:This Benson club meets Mondays 1:30-4pm (not on public holidays!)\nand Thursdays 7-9pm – except for the first Thursday of the month.\n-Kindly arrive 15 minutes earlier\, so we can start on time!
URL:https://bensonbulletin.co.uk/event/benson-short-mat-bowls-9/
LOCATION:Parish Hall
END:VEVENT
BEGIN:VEVENT
DTSTART;TZID=Europe/London:20251113T180000
DTEND;TZID=Europe/London:20251113T190000
DTSTAMP:20260423T170431
CREATED:20251010T114453Z
LAST-MODIFIED:20251010T114453Z
UID:10001970-1763056800-1763060400@bensonbulletin.co.uk
SUMMARY:Family history group - drop-in clinic
DESCRIPTION:The monthly drop-in session runs on the second Thursday\, 6-7pm. Benson library.
URL:https://bensonbulletin.co.uk/event/family-history-group-drop-in-clinic-2/
LOCATION:Benson Library
END:VEVENT
BEGIN:VEVENT
DTSTART;TZID=Europe/London:20251111T100000
DTEND;TZID=Europe/London:20251111T103000
DTSTAMP:20260423T170431
CREATED:20251030T120149Z
LAST-MODIFIED:20251030T120149Z
UID:10001988-1762855200-1762857000@bensonbulletin.co.uk
SUMMARY:Rhymetimes
DESCRIPTION:Rhymetimes\n\nRuns on 1st & 2nd Tuesdays\, + 2 last Fridays (check dates) per month.\nSing along to favourite rhymes with musical instruments\, toys\, bubbles and lots of fun!\n\n10-10:30AM\, followed by parents/carers coffee morning
URL:https://bensonbulletin.co.uk/event/rhymetimes-benson-library/
LOCATION:Benson Library
END:VEVENT
END:VCALENDAR